BEGIN:VCALENDAR
VERSION:2.0
PRODID:-//fija.org//NONSGML kigkonsult.se iCalcreator 2.30.10//
CALSCALE:GREGORIAN
METHOD:PUBLISH
UID:d2bca923-6e0b-4e8b-b6d0-623b065807b9
X-WR-CALDESC:Do you think being fully informed about jury nullification mea
 ns you can't get on a jury? Not true! But it helps if you know something a
 bout how the system works and how to navigate it.\n\nOur guest Larry Sharp
 e has both served as a juror and consulted with law firms on jury selectio
 n and trial prep. We'll pick his brain for tips on what fully informed pro
 spective jurors can expect starting with jury selection all the way throug
 h deliberations.\n\nDon't unnecessarily take yourself out of the running t
 o be someone's hero! Join us on Wednesday\, 22 February at noon Eastern/11
  am Central/10 am Mountain/9 am Pacific on Zoom or the official FIJA Faceb
 ook page.\n\nThe short timeframe and guest availability limit how much we 
 can cover in the presentation. To make the most of that time\, you are inv
 ited to email aji@fija.org in advance with jury-related questions or topic
 s you would like to see addressed. It may not be possible to address them 
 all\, but your input will help guide the direction of the presentation.
X-WR-RELCALID:499544b0464481a61ce127c1aeddc3fb
X-WR-TIMEZONE:America/Denver
BEGIN:VTIMEZONE
TZID:America/Denver
BEGIN:STANDARD
TZNAME:MST
DTSTART:20221106T020000
TZOFFSETFROM:-0600
TZOFFSETTO:-0700
RDATE:20231105T020000
END:STANDARD
BEGIN:DAYLIGHT
TZNAME:MDT
DTSTART:20230312T020000
TZOFFSETFROM:-0700
TZOFFSETTO:-0600
RDATE:20240310T020000
END:DAYLIGHT
END:VTIMEZONE
BEGIN:VEVENT
UID:bf036b5a-2c03-477d-ad90-18d146146272
DTSTAMP:20260425T020256Z
DESCRIPTION:Do you think being fully informed about jury nullification mean
 s you can't get on a jury? Not true! But it helps if you know something ab
 out how the system works and how to navigate it.\n\nOur guest Larry Sharpe
  has both served as a juror and consulted with law firms on jury selection
  and trial prep. We'll pick his brain for tips on what fully informed pros
 pective jurors can expect starting with jury selection all the way through
  deliberations.\n\nDon't unnecessarily take yourself out of the running to
  be someone's hero! Join us on Wednesday\, 22 February at noon Eastern/11 
 am Central/10 am Mountain/9 am Pacific on Zoom or the official FIJA Facebo
 ok page.\n\nThe short timeframe and guest availability limit how much we c
 an cover in the presentation. To make the most of that time\, you are invi
 ted to email aji@fija.org in advance with jury-related questions or topics
  you would like to see addressed. It may not be possible to address them a
 ll\, but your input will help guide the direction of the presentation.
DTSTART;TZID=America/Denver:20230322T100000
DTEND;TZID=America/Denver:20230322T111500
LOCATION:https://us02web.zoom.us/webinar/register/2716787339867/WN_pPtXdSCv
 SHW8e13D7huJhQ
SUMMARY:Jury Selection Tips from a Pro
END:VEVENT
END:VCALENDAR
