BEGIN:VCALENDAR
VERSION:2.0
PRODID:-//fija.org//NONSGML kigkonsult.se iCalcreator 2.28.2//
CALSCALE:GREGORIAN
METHOD:PUBLISH
X-WR-CALDESC:\nIn advance of FIJA's upcoming Virtual Reading Group covering
  her book The Missing American Jury\, Professor Suja Thomas joins us for a
 n in-depth conversation about her research into jury-related issues. So ma
 ny aspects of the jury system as it exists and operates in the United Stat
 es today seem counterintuitive given how adamantly it was insisted upon ea
 rly on in the history of the United States. We'll discuss what the jury sy
 stem was like when it was initially codified in the Constitution\, how we 
 got here from there\, and where the jury system is headed (or could be!) f
 rom here.\n\nIn addition to being presented as a Zoom webinar\, this webin
 ar will be livestreamed to Facebook as well as recorded for future publica
 tion.
X-WR-RELCALID:19ec56f87b6decaaf0a466febd19e046
X-WR-TIMEZONE:America/Denver
BEGIN:VEVENT
UID:20210423T060116UTC-2569bea417@fija.org
DTSTAMP:20210423T060116Z
DESCRIPTION:\nIn advance of FIJA's upcoming Virtual Reading Group covering 
 her book The Missing American Jury\, Professor Suja Thomas joins us for an
  in-depth conversation about her research into jury-related issues. So man
 y aspects of the jury system as it exists and operates in the United State
 s today seem counterintuitive given how adamantly it was insisted upon ear
 ly on in the history of the United States. We'll discuss what the jury sys
 tem was like when it was initially codified in the Constitution\, how we g
 ot here from there\, and where the jury system is headed (or could be!) fr
 om here.\n\nIn addition to being presented as a Zoom webinar\, this webina
 r will be livestreamed to Facebook as well as recorded for future publicat
 ion.
DTSTART;TZID=America/Denver:20210330T100000
DTEND;TZID=America/Denver:20210330T110000
LOCATION:https://us02web.zoom.us/webinar/register/WN_Yzze34tYQLKbgV9YYaw-HA
SUMMARY:The Missing American Jury featuring Professor Suja Thomas
END:VEVENT
END:VCALENDAR
