BEGIN:VCALENDAR
VERSION:2.0
PRODID:-//fija.org//NONSGML kigkonsult.se iCalcreator 2.28.2//
CALSCALE:GREGORIAN
METHOD:PUBLISH
X-WR-CALDESC:This short event will feature a quick 15-minute presentation f
 rom FIJA:\n• to update you on recent jury-related news such as the status 
 of trial by jury during the pandemic\, court cases related to jury rights\
 , legislation regarding trial by jury\, etc.\, and\n• highlight one FIJA p
 roject\, resource\, activity\, etc. \n\nWe'll start on time\, pack that 15
  minutes with information\, and then you can be on your way. Optionally\, 
 you can stick around for a short Q&A session afterward.\n\nRegister in adv
 ance for this meeting:\nhttps://us02web.zoom.us/meeting/register/tZIucu6or
 z4sHNRhoGqVJC4sy0hxfa6qqfCX\n\nYou only need to register once for all of t
 he January-March 2021 sessions. After registering\, you will receive a con
 firmation email containing information about joining the meeting.
X-WR-RELCALID:b4fffd9feb1ecc0f6faedfef4ce3f55e
X-WR-TIMEZONE:America/Denver
BEGIN:VEVENT
UID:20210423T060112UTC-50039812c5@fija.org
DTSTAMP:20210423T060112Z
DESCRIPTION:This short event will feature a quick 15-minute presentation fr
 om FIJA:\n• to update you on recent jury-related news such as the status o
 f trial by jury during the pandemic\, court cases related to jury rights\,
  legislation regarding trial by jury\, etc.\, and\n• highlight one FIJA pr
 oject\, resource\, activity\, etc. \n\nWe'll start on time\, pack that 15 
 minutes with information\, and then you can be on your way. Optionally\, y
 ou can stick around for a short Q&A session afterward.\n\nRegister in adva
 nce for this meeting:\nhttps://us02web.zoom.us/meeting/register/tZIucu6orz
 4sHNRhoGqVJC4sy0hxfa6qqfCX\n\nYou only need to register once for all of th
 e January-March 2021 sessions. After registering\, you will receive a conf
 irmation email containing information about joining the meeting.
DTSTART;TZID=America/Denver:20210329T183000
DTEND;TZID=America/Denver:20210329T190000
LOCATION:
SUMMARY:15 Minutes with FIJA
END:VEVENT
END:VCALENDAR
